Package: HIPPO Version: 1.22.0 Command: rm -rf HIPPO.buildbin-libdir && mkdir HIPPO.buildbin-libdir && /Users/biocbuild/BBS/utils/build-universal.sh HIPPO_1.22.0.tar.gz /Library/Frameworks/R.framework/Resources/bin/R HIPPO.buildbin-libdir StartedAt: 2025-11-10 23:23:17 -0500 (Mon, 10 Nov 2025) EndedAt: 2025-11-10 23:23:28 -0500 (Mon, 10 Nov 2025) EllapsedTime: 11.2 seconds RetCode: 0 Status: OK PackageFile: HIPPO_1.22.0.tgz PackageFileSize: 963.2 KiB