Package: HGC Version: 1.18.0 Command: /home/biocbuild/bbs-3.22-bioc/R/bin/R CMD build --keep-empty-dirs --no-resave-data --md5 HGC StartedAt: 2025-11-11 18:10:50 -0500 (Tue, 11 Nov 2025) EndedAt: 2025-11-11 18:11:35 -0500 (Tue, 11 Nov 2025) EllapsedTime: 45.0 seconds RetCode: 0 Status: OK PackageFile: HGC_1.18.0.tar.gz PackageFileSize: 530.7 KiB