Package: HGC Version: 1.18.0 Command: /Library/Frameworks/R.framework/Resources/bin/R CMD build --keep-empty-dirs --no-resave-data HGC StartedAt: 2025-11-10 16:40:57 -0500 (Mon, 10 Nov 2025) EndedAt: 2025-11-10 16:41:12 -0500 (Mon, 10 Nov 2025) EllapsedTime: 15.2 seconds RetCode: 0 Status: OK PackageFile: HGC_1.18.0.tar.gz PackageFileSize: 540.5 KiB