Package: HERON Version: 1.8.0 Command: /home/biocbuild/bbs-3.22-bioc/R/bin/R CMD INSTALL HERON StartedAt: 2025-11-13 15:24:03 -0500 (Thu, 13 Nov 2025) EndedAt: 2025-11-13 15:24:24 -0500 (Thu, 13 Nov 2025) EllapsedTime: 21.2 seconds RetCode: 0 Status: OK