Package: HERON Version: 1.8.0 Command: /home/biocbuild/bbs-3.22-bioc/R/bin/R CMD build --keep-empty-dirs --no-resave-data --md5 HERON StartedAt: 2025-11-13 18:08:32 -0500 (Thu, 13 Nov 2025) EndedAt: 2025-11-13 18:09:47 -0500 (Thu, 13 Nov 2025) EllapsedTime: 75.1 seconds RetCode: 0 Status: OK PackageFile: HERON_1.8.0.tar.gz PackageFileSize: 967.3 KiB