Package: HEM Version: 1.82.0 Command: /home/biocbuild/bbs-3.22-bioc/R/bin/R CMD INSTALL HEM StartedAt: 2025-11-02 15:19:22 -0500 (Sun, 02 Nov 2025) EndedAt: 2025-11-02 15:19:30 -0500 (Sun, 02 Nov 2025) EllapsedTime: 8.6 seconds RetCode: 0 Status: OK