Package: HEM Version: 1.82.0 Command: /home/biocbuild/bbs-3.22-bioc/R/bin/R CMD build --keep-empty-dirs --no-resave-data --md5 HEM StartedAt: 2025-10-31 18:14:33 -0400 (Fri, 31 Oct 2025) EndedAt: 2025-10-31 18:14:43 -0400 (Fri, 31 Oct 2025) EllapsedTime: 10.0 seconds RetCode: 0 Status: OK PackageFile: HEM_1.82.0.tar.gz PackageFileSize: 614 KiB