Package: HELP Version: 1.68.0 Command: /home/biocbuild/R/R/bin/R CMD build --keep-empty-dirs --no-resave-data HELP StartedAt: 2025-11-14 02:27:42 -0000 (Fri, 14 Nov 2025) EndedAt: 2025-11-14 02:27:55 -0000 (Fri, 14 Nov 2025) EllapsedTime: 13.0 seconds RetCode: 0 Status: OK PackageFile: HELP_1.68.0.tar.gz PackageFileSize: 992.5 KiB