Package: HELP Version: 1.68.0 Command: /home/biocbuild/bbs-3.22-bioc/R/bin/R CMD INSTALL HELP StartedAt: 2025-11-11 15:18:40 -0500 (Tue, 11 Nov 2025) EndedAt: 2025-11-11 15:18:44 -0500 (Tue, 11 Nov 2025) EllapsedTime: 4.6 seconds RetCode: 0 Status: OK