Package: HELP Version: 1.66.0 Command: /home/biocbuild/bbs-3.21-bioc/R/bin/R CMD INSTALL HELP StartedAt: 2025-10-12 15:14:05 -0400 (Sun, 12 Oct 2025) EndedAt: 2025-10-12 15:14:09 -0400 (Sun, 12 Oct 2025) EllapsedTime: 3.6 seconds RetCode: 0 Status: OK