Package: HELP Version: 1.66.0 Command: /home/biocbuild/bbs-3.21-bioc/R/bin/R CMD build --keep-empty-dirs --no-resave-data HELP StartedAt: 2025-10-12 17:55:52 -0400 (Sun, 12 Oct 2025) EndedAt: 2025-10-12 17:56:04 -0400 (Sun, 12 Oct 2025) EllapsedTime: 12.0 seconds RetCode: 0 Status: OK PackageFile: HELP_1.66.0.tar.gz PackageFileSize: 996.2 KiB