Package: HELP Version: 1.66.0 Command: /Library/Frameworks/R.framework/Resources/bin/R CMD INSTALL HELP StartedAt: 2025-10-09 15:57:58 -0400 (Thu, 09 Oct 2025) EndedAt: 2025-10-09 15:58:04 -0400 (Thu, 09 Oct 2025) EllapsedTime: 5.7 seconds RetCode: 0 Status: OK