Package: HELP Version: 1.66.0 Command: /Library/Frameworks/R.framework/Resources/bin/R CMD build --keep-empty-dirs --no-resave-data HELP StartedAt: 2025-10-10 02:21:12 -0400 (Fri, 10 Oct 2025) EndedAt: 2025-10-10 02:21:32 -0400 (Fri, 10 Oct 2025) EllapsedTime: 19.3 seconds RetCode: 0 Status: OK PackageFile: HELP_1.66.0.tar.gz PackageFileSize: 997.6 KiB