Package: HDTD Version: 1.44.0 Command: /home/biocbuild/bbs-3.22-bioc/R/bin/R CMD INSTALL HDTD StartedAt: 2025-11-02 15:12:25 -0500 (Sun, 02 Nov 2025) EndedAt: 2025-11-02 15:13:05 -0500 (Sun, 02 Nov 2025) EllapsedTime: 40.7 seconds RetCode: 0 Status: OK