Package: HDF5Array Version: 1.38.0 Command: /home/biocbuild/R/R/bin/R CMD INSTALL HDF5Array StartedAt: 2025-11-10 21:43:45 -0000 (Mon, 10 Nov 2025) EndedAt: 2025-11-10 21:44:15 -0000 (Mon, 10 Nov 2025) EllapsedTime: 29.7 seconds RetCode: 0 Status: OK