Package: HDF5Array Version: 1.38.0 Command: /home/biocbuild/R/R/bin/R CMD check --install=check:HDF5Array.install-out.txt --library=/home/biocbuild/R/R/site-library --no-vignettes --timings HDF5Array_1.38.0.tar.gz StartedAt: 2025-11-18 10:41:46 -0000 (Tue, 18 Nov 2025) EndedAt: 2025-11-18 10:50:50 -0000 (Tue, 18 Nov 2025) EllapsedTime: 544.2 seconds RetCode: 1 Status: ERROR CheckDir: HDF5Array.Rcheck Warnings: NA