Package: HDF5Array Version: 1.38.0 Command: /home/biocbuild/R/R/bin/R CMD build --keep-empty-dirs --no-resave-data HDF5Array StartedAt: 2025-11-11 02:22:12 -0000 (Tue, 11 Nov 2025) EndedAt: 2025-11-11 02:40:44 -0000 (Tue, 11 Nov 2025) EllapsedTime: 1111.3 seconds RetCode: 0 Status: OK PackageFile: HDF5Array_1.38.0.tar.gz PackageFileSize: 7.988 MiB