Package: HDF5Array Version: 1.38.0 Command: /home/biocbuild/bbs-3.22-bioc/R/bin/R CMD check --install=check:HDF5Array.install-out.txt --library=/home/biocbuild/bbs-3.22-bioc/R/site-library --timings HDF5Array_1.38.0.tar.gz StartedAt: 2025-11-12 00:25:31 -0500 (Wed, 12 Nov 2025) EndedAt: 2025-11-12 00:42:42 -0500 (Wed, 12 Nov 2025) EllapsedTime: 1031.1 seconds RetCode: 0 Status: OK CheckDir: HDF5Array.Rcheck Warnings: 0