Package: HDF5Array Version: 1.36.0 Command: /home/biocbuild/R/R/bin/R CMD check --install=check:HDF5Array.install-out.txt --library=/home/biocbuild/R/R/site-library --no-vignettes --timings HDF5Array_1.36.0.tar.gz StartedAt: 2025-10-14 10:02:22 -0000 (Tue, 14 Oct 2025) EndedAt: 2025-10-14 10:05:56 -0000 (Tue, 14 Oct 2025) EllapsedTime: 214.1 seconds RetCode: 1 Status: ERROR CheckDir: HDF5Array.Rcheck Warnings: NA