Package: Gviz Version: 1.54.0 Command: /home/biocbuild/bbs-3.22-bioc/R/bin/R CMD check --install=check:Gviz.install-out.txt --library=/home/biocbuild/bbs-3.22-bioc/R/site-library --timings Gviz_1.54.0.tar.gz StartedAt: 2025-11-15 00:28:58 -0500 (Sat, 15 Nov 2025) EndedAt: 2025-11-15 00:41:02 -0500 (Sat, 15 Nov 2025) EllapsedTime: 723.9 seconds RetCode: 0 Status: OK CheckDir: Gviz.Rcheck Warnings: 0