Package: Gviz Version: 1.54.0 Command: /Library/Frameworks/R.framework/Resources/bin/R CMD INSTALL Gviz StartedAt: 2025-11-02 15:48:07 -0500 (Sun, 02 Nov 2025) EndedAt: 2025-11-02 15:49:35 -0500 (Sun, 02 Nov 2025) EllapsedTime: 87.9 seconds RetCode: 0 Status: OK