Package: Gviz Version: 1.54.0 Command: /Library/Frameworks/R.framework/Resources/bin/R CMD build --keep-empty-dirs --no-resave-data Gviz StartedAt: 2025-11-03 17:18:08 -0500 (Mon, 03 Nov 2025) EndedAt: 2025-11-03 17:22:27 -0500 (Mon, 03 Nov 2025) EllapsedTime: 258.8 seconds RetCode: 0 Status: OK PackageFile: Gviz_1.54.0.tar.gz PackageFileSize: 7.778 MiB