Package: Gviz Version: 1.54.0 Command: rm -rf Gviz.buildbin-libdir && mkdir Gviz.buildbin-libdir && /Users/biocbuild/BBS/utils/build-universal.sh Gviz_1.54.0.tar.gz /Library/Frameworks/R.framework/Resources/bin/R Gviz.buildbin-libdir StartedAt: 2025-11-04 01:44:01 -0500 (Tue, 04 Nov 2025) EndedAt: 2025-11-04 01:45:35 -0500 (Tue, 04 Nov 2025) EllapsedTime: 93.6 seconds RetCode: 0 Status: OK PackageFile: Gviz_1.54.0.tgz PackageFileSize: 7.813 MiB