Package: Gviz Version: 1.52.0 Command: /home/biocbuild/R/R/bin/R CMD INSTALL Gviz StartedAt: 2025-10-09 21:02:08 -0000 (Thu, 09 Oct 2025) EndedAt: 2025-10-09 21:03:41 -0000 (Thu, 09 Oct 2025) EllapsedTime: 93.2 seconds RetCode: 0 Status: OK