Package: Guitar Version: 2.26.0 Command: /home/biocbuild/bbs-3.22-bioc/R/bin/R CMD INSTALL Guitar StartedAt: 2025-11-17 17:57:56 -0500 (Mon, 17 Nov 2025) EndedAt: 2025-11-17 17:58:33 -0500 (Mon, 17 Nov 2025) EllapsedTime: 37.5 seconds RetCode: 0 Status: OK