Package: Guitar Version: 2.26.0 Command: /home/biocbuild/bbs-3.22-bioc/R/bin/R CMD build --keep-empty-dirs --no-resave-data --md5 Guitar StartedAt: 2025-11-17 21:23:55 -0500 (Mon, 17 Nov 2025) EndedAt: 2025-11-17 21:32:57 -0500 (Mon, 17 Nov 2025) EllapsedTime: 541.5 seconds RetCode: 0 Status: OK PackageFile: Guitar_2.26.0.tar.gz PackageFileSize: 3.72 MiB