Package: GreyListChIP Version: 1.42.0 Command: /home/biocbuild/bbs-3.22-bioc/R/bin/R CMD check --install=check:GreyListChIP.install-out.txt --library=/home/biocbuild/bbs-3.22-bioc/R/site-library --timings GreyListChIP_1.42.0.tar.gz StartedAt: 2025-11-14 00:22:32 -0500 (Fri, 14 Nov 2025) EndedAt: 2025-11-14 00:26:59 -0500 (Fri, 14 Nov 2025) EllapsedTime: 267.2 seconds RetCode: 0 Status: OK CheckDir: GreyListChIP.Rcheck Warnings: 0