Package: GreyListChIP Version: 1.40.0 Command: /home/biocbuild/bbs-3.21-bioc/R/bin/R CMD build --keep-empty-dirs --no-resave-data GreyListChIP StartedAt: 2025-10-15 17:51:50 -0400 (Wed, 15 Oct 2025) EndedAt: 2025-10-15 17:52:38 -0400 (Wed, 15 Oct 2025) EllapsedTime: 48.1 seconds RetCode: 0 Status: OK PackageFile: GreyListChIP_1.40.0.tar.gz PackageFileSize: 341.3 KiB