Package: GreyListChIP Version: 1.40.0 Command: /home/biocbuild/R/R/bin/R CMD INSTALL GreyListChIP StartedAt: 2025-10-09 20:42:59 -0000 (Thu, 09 Oct 2025) EndedAt: 2025-10-09 20:43:49 -0000 (Thu, 09 Oct 2025) EllapsedTime: 49.5 seconds RetCode: 0 Status: OK