Package: GreyListChIP Version: 1.40.0 Command: /Library/Frameworks/R.framework/Resources/bin/R CMD build --keep-empty-dirs --no-resave-data GreyListChIP StartedAt: 2025-10-14 01:43:58 -0400 (Tue, 14 Oct 2025) EndedAt: 2025-10-14 01:45:03 -0400 (Tue, 14 Oct 2025) EllapsedTime: 65.0 seconds RetCode: 0 Status: OK PackageFile: GreyListChIP_1.40.0.tar.gz PackageFileSize: 341 KiB