Package: GreyListChIP Version: 1.40.0 Command: rm -rf GreyListChIP.buildbin-libdir && mkdir GreyListChIP.buildbin-libdir && /Users/biocbuild/BBS/utils/build-universal.sh GreyListChIP_1.40.0.tar.gz /Library/Frameworks/R.framework/Resources/bin/R GreyListChIP.buildbin-libdir StartedAt: 2025-10-15 18:47:06 -0400 (Wed, 15 Oct 2025) EndedAt: 2025-10-15 18:47:50 -0400 (Wed, 15 Oct 2025) EllapsedTime: 43.7 seconds RetCode: 0 Status: OK PackageFile: GreyListChIP_1.40.0.tgz PackageFileSize: 895.6 KiB