Package: GraphPAC Version: 1.49.1 Command: F:\biocbuild\bbs-3.22-bioc\R\bin\R.exe CMD INSTALL GraphPAC StartedAt: 2025-04-08 16:48:10 -0400 (Tue, 08 Apr 2025) EndedAt: 2025-04-08 16:48:29 -0400 (Tue, 08 Apr 2025) EllapsedTime: 19.2 seconds RetCode: 0 Status: OK