Package: GraphPAC Version: 1.50.0 Command: /Library/Frameworks/R.framework/Resources/bin/R CMD INSTALL GraphPAC StartedAt: 2025-09-25 16:30:52 -0400 (Thu, 25 Sep 2025) EndedAt: 2025-09-25 16:31:24 -0400 (Thu, 25 Sep 2025) EllapsedTime: 31.4 seconds RetCode: 0 Status: OK