Package: GraphAlignment Version: 1.74.0 Command: /home/biocbuild/R/R/bin/R CMD INSTALL GraphAlignment StartedAt: 2025-11-10 21:10:28 -0000 (Mon, 10 Nov 2025) EndedAt: 2025-11-10 21:11:06 -0000 (Mon, 10 Nov 2025) EllapsedTime: 38.2 seconds RetCode: 0 Status: OK