Package: GraphAlignment Version: 1.74.0 Command: /home/biocbuild/R/R/bin/R CMD build --keep-empty-dirs --no-resave-data GraphAlignment StartedAt: 2025-11-11 02:15:13 -0000 (Tue, 11 Nov 2025) EndedAt: 2025-11-11 02:15:21 -0000 (Tue, 11 Nov 2025) EllapsedTime: 8.0 seconds RetCode: 0 Status: OK PackageFile: GraphAlignment_1.74.0.tar.gz PackageFileSize: 576 KiB