Package: GraphAlignment Version: 1.74.0 Command: /home/biocbuild/bbs-3.22-bioc/R/bin/R CMD check --install=check:GraphAlignment.install-out.txt --library=/home/biocbuild/bbs-3.22-bioc/R/site-library --timings GraphAlignment_1.74.0.tar.gz StartedAt: 2025-11-12 00:17:02 -0500 (Wed, 12 Nov 2025) EndedAt: 2025-11-12 00:17:21 -0500 (Wed, 12 Nov 2025) EllapsedTime: 19.0 seconds RetCode: 0 Status: WARNINGS CheckDir: GraphAlignment.Rcheck Warnings: 1