Package: GraphAlignment Version: 1.74.0 Command: /home/biocbuild/bbs-3.22-bioc/R/bin/R CMD build --keep-empty-dirs --no-resave-data --md5 GraphAlignment StartedAt: 2025-11-11 18:04:41 -0500 (Tue, 11 Nov 2025) EndedAt: 2025-11-11 18:04:48 -0500 (Tue, 11 Nov 2025) EllapsedTime: 7.0 seconds RetCode: 0 Status: OK PackageFile: GraphAlignment_1.74.0.tar.gz PackageFileSize: 593.2 KiB