Package: GraphAlignment Version: 1.72.0 Command: /home/biocbuild/R/R/bin/R CMD build --keep-empty-dirs --no-resave-data GraphAlignment StartedAt: 2025-10-14 01:27:22 -0000 (Tue, 14 Oct 2025) EndedAt: 2025-10-14 01:27:30 -0000 (Tue, 14 Oct 2025) EllapsedTime: 8.0 seconds RetCode: 0 Status: OK PackageFile: GraphAlignment_1.72.0.tar.gz PackageFileSize: 576.1 KiB