Package: GraphAT Version: 1.82.0 Command: /home/biocbuild/R/R/bin/R CMD INSTALL GraphAT StartedAt: 2025-11-10 21:18:21 -0000 (Mon, 10 Nov 2025) EndedAt: 2025-11-10 21:18:29 -0000 (Mon, 10 Nov 2025) EllapsedTime: 8.8 seconds RetCode: 0 Status: OK