Package: GraphAT Version: 1.82.0 Command: /home/biocbuild/R/R/bin/R CMD build --keep-empty-dirs --no-resave-data GraphAT StartedAt: 2025-11-11 02:15:21 -0000 (Tue, 11 Nov 2025) EndedAt: 2025-11-11 02:15:23 -0000 (Tue, 11 Nov 2025) EllapsedTime: 2.0 seconds RetCode: 0 Status: OK PackageFile: GraphAT_1.82.0.tar.gz PackageFileSize: 1.884 MiB