Package: GraphAT Version: 1.80.0 Command: rm -rf GraphAT.buildbin-libdir && mkdir GraphAT.buildbin-libdir && E:\biocbuild\bbs-3.21-bioc\R\bin\R.exe CMD INSTALL --build --library=GraphAT.buildbin-libdir GraphAT_1.80.0.tar.gz StartedAt: 2025-08-15 09:26:05 -0400 (Fri, 15 Aug 2025) EndedAt: 2025-08-15 09:26:20 -0400 (Fri, 15 Aug 2025) EllapsedTime: 14.7 seconds RetCode: 0 Status: OK PackageFile: GraphAT_1.80.0.zip PackageFileSize: 1.92 MiB