Package: GraphAT Version: 1.82.0 Command: /home/biocbuild/bbs-3.22-bioc/R/bin/R CMD check --install=check:GraphAT.install-out.txt --library=/home/biocbuild/bbs-3.22-bioc/R/site-library --timings GraphAT_1.82.0.tar.gz StartedAt: 2025-11-12 00:17:04 -0500 (Wed, 12 Nov 2025) EndedAt: 2025-11-12 00:17:59 -0500 (Wed, 12 Nov 2025) EllapsedTime: 55.0 seconds RetCode: 0 Status: OK CheckDir: GraphAT.Rcheck Warnings: 0