Package: GraphAT Version: 1.82.0 Command: /home/biocbuild/bbs-3.22-bioc/R/bin/R CMD build --keep-empty-dirs --no-resave-data --md5 GraphAT StartedAt: 2025-11-11 18:04:46 -0500 (Tue, 11 Nov 2025) EndedAt: 2025-11-11 18:04:48 -0500 (Tue, 11 Nov 2025) EllapsedTime: 2.0 seconds RetCode: 0 Status: OK PackageFile: GraphAT_1.82.0.tar.gz PackageFileSize: 1.885 MiB