Package: GraphAT Version: 1.82.0 Command: /Library/Frameworks/R.framework/Resources/bin/R CMD check --install=check:GraphAT.install-out.txt --library=/Library/Frameworks/R.framework/Resources/library --no-vignettes --timings GraphAT_1.82.0.tar.gz StartedAt: 2025-11-02 20:06:13 -0500 (Sun, 02 Nov 2025) EndedAt: 2025-11-02 20:06:39 -0500 (Sun, 02 Nov 2025) EllapsedTime: 25.4 seconds RetCode: 0 Status: OK CheckDir: GraphAT.Rcheck Warnings: 0