Package: GraphAT Version: 1.80.0 Command: /Library/Frameworks/R.framework/Resources/bin/R CMD build --keep-empty-dirs --no-resave-data GraphAT StartedAt: 2025-09-26 01:37:01 -0400 (Fri, 26 Sep 2025) EndedAt: 2025-09-26 01:37:04 -0400 (Fri, 26 Sep 2025) EllapsedTime: 3.5 seconds RetCode: 0 Status: OK PackageFile: GraphAT_1.80.0.tar.gz PackageFileSize: 1.884 MiB