Package: GraphAT Version: 1.80.0 Command: rm -rf GraphAT.buildbin-libdir && mkdir GraphAT.buildbin-libdir && /Users/biocbuild/BBS/utils/build-universal.sh GraphAT_1.80.0.tar.gz /Library/Frameworks/R.framework/Resources/bin/R GraphAT.buildbin-libdir StartedAt: 2025-09-27 17:46:14 -0400 (Sat, 27 Sep 2025) EndedAt: 2025-09-27 17:46:24 -0400 (Sat, 27 Sep 2025) EllapsedTime: 9.1 seconds RetCode: 0 Status: OK PackageFile: GraphAT_1.80.0.tgz PackageFileSize: 1.917 MiB