Package: GrafGen Version: 1.6.0 Command: /Library/Frameworks/R.framework/Resources/bin/R CMD INSTALL GrafGen StartedAt: 2025-11-03 15:21:53 -0500 (Mon, 03 Nov 2025) EndedAt: 2025-11-03 15:22:27 -0500 (Mon, 03 Nov 2025) EllapsedTime: 33.9 seconds RetCode: 0 Status: OK