Package: GrafGen Version: 1.4.0 Command: /home/biocbuild/R/R/bin/R CMD INSTALL GrafGen StartedAt: 2025-10-13 20:28:19 -0000 (Mon, 13 Oct 2025) EndedAt: 2025-10-13 20:28:53 -0000 (Mon, 13 Oct 2025) EllapsedTime: 34.0 seconds RetCode: 0 Status: OK