Package: GrafGen Version: 1.4.0 Command: /home/biocbuild/R/R/bin/R CMD build --keep-empty-dirs --no-resave-data GrafGen StartedAt: 2025-10-14 01:25:29 -0000 (Tue, 14 Oct 2025) EndedAt: 2025-10-14 01:26:19 -0000 (Tue, 14 Oct 2025) EllapsedTime: 50.0 seconds RetCode: 0 Status: OK PackageFile: GrafGen_1.4.0.tar.gz PackageFileSize: 3.084 MiB