Package: GrafGen Version: 1.4.0 Command: /Library/Frameworks/R.framework/Resources/bin/R CMD build --keep-empty-dirs --no-resave-data GrafGen StartedAt: 2025-04-21 16:32:38 -0400 (Mon, 21 Apr 2025) EndedAt: 2025-04-21 16:32:53 -0400 (Mon, 21 Apr 2025) EllapsedTime: 15.2 seconds RetCode: 0 Status: OK PackageFile: GrafGen_1.4.0.tar.gz PackageFileSize: 3.104 MiB